BEGIN:VCALENDAR
VERSION:2.0
PRODID:-//Berlin Radioshow - ECPv6.15.20//NONSGML v1.0//EN
CALSCALE:GREGORIAN
METHOD:PUBLISH
X-WR-CALNAME:Berlin Radioshow
X-ORIGINAL-URL:https://berlinradioshow.de
X-WR-CALDESC:Events for Berlin Radioshow
REFRESH-INTERVAL;VALUE=DURATION:PT1H
X-Robots-Tag:noindex
X-PUBLISHED-TTL:PT1H
BEGIN:VTIMEZONE
TZID:Europe/Berlin
BEGIN:DAYLIGHT
TZOFFSETFROM:+0100
TZOFFSETTO:+0200
TZNAME:CEST
DTSTART:20240331T010000
END:DAYLIGHT
BEGIN:STANDARD
TZOFFSETFROM:+0200
TZOFFSETTO:+0100
TZNAME:CET
DTSTART:20241027T010000
END:STANDARD
BEGIN:DAYLIGHT
TZOFFSETFROM:+0100
TZOFFSETTO:+0200
TZNAME:CEST
DTSTART:20250330T010000
END:DAYLIGHT
BEGIN:STANDARD
TZOFFSETFROM:+0200
TZOFFSETTO:+0100
TZNAME:CET
DTSTART:20251026T010000
END:STANDARD
BEGIN:DAYLIGHT
TZOFFSETFROM:+0100
TZOFFSETTO:+0200
TZNAME:CEST
DTSTART:20260329T010000
END:DAYLIGHT
BEGIN:STANDARD
TZOFFSETFROM:+0200
TZOFFSETTO:+0100
TZNAME:CET
DTSTART:20261025T010000
END:STANDARD
END:VTIMEZONE
BEGIN:VEVENT
DTSTART;TZID=Europe/Berlin:20250725T080000
DTEND;TZID=Europe/Berlin:20250726T170000
DTSTAMP:20260420T173512
CREATED:20250711T210314Z
LAST-MODIFIED:20250712T095308Z
UID:4473-1753430400-1753549200@berlinradioshow.de
SUMMARY:Berlin Radioshow @ Open Air Lake Edition
DESCRIPTION:The venue is fully equipped to support diverse event formats—dance parties\, corporate gatherings\, business productions\, and even film shoots. It offers professional lighting\, top‑tier sound systems\, microphones\, camera tech\, mixing desks\, and crew services—ideal for renting for bespoke shows.
URL:https://berlinradioshow.de/event/berlin-radioshow-open-air-lake-edition/
LOCATION:Livestream
ATTACH;FMTTYPE=image/jpeg:https://berlinradioshow.de/wp-content/uploads/2025/07/abstract-art-artistic-1020315.jpg
ORGANIZER;CN="berlinradioshow":MAILTO:info@berlinradioshow.de
END:VEVENT
END:VCALENDAR